BEGIN:VCALENDAR
VERSION:2.0
PRODID:-//hacksw/handcal//NONSGML v1.0//EN
BEGIN:VEVENT
DTSTART:20261107T110000Z
DTEND:20261107T160000Z
LOCATION:Mines Paris - PSL \n60, Boulevard Saint-Michel \n75006 PARIS
ORGANIZER;CN=Pierre GLENAT - Promo P 1976:MAILTO:pierre.glenat@wanadoo.fr
SUMMARY:Cinquantenaire de la promotion 1976
DESCRIPTION:Avec le support de l’Ecole et de l’association des anciens élèves, nous organisons une rencontre pour célébrer le cinquantième anniversaire de notre entrée en promotion. Elle se déroulera l’après-midi...
URL:https://mines-paris.org/fr/group/promo-p-1976/74/calendar/cinquantenaire-de-la-promotion-1976/2026/11/07/982
BEGIN:VALARM
TRIGGER:-P0DT1H0M0S
ACTION:DISPLAY
END:VALARM
END:VEVENT
END:VCALENDAR