BEGIN:VCALENDAR
VERSION:2.0
PRODID:-//hacksw/handcal//NONSGML v1.0//EN
BEGIN:VEVENT
DTSTART:20260513T163000Z
DTEND:20260513T210000Z
LOCATION:New York
ORGANIZER;CN=Noémie RAVET:MAILTO:noemie.ravet@minesparis.psl.eu
SUMMARY:Soirée exclusive École des Mines de Paris à New York
DESCRIPTION:Soirée exclusive École des Mines de Paris à New YorkMercredi 13 mai 2026, à 18h30La Fondation Mines Paris et Mines Paris Alumni ont le plaisir de vous convier\npour une soirée de levée de fonds au...
URL:https://mines-paris.org/fr/event/soiree-exclusive-ecole-des-mines-de-paris-a-new-york/2026/05/13/931
BEGIN:VALARM
TRIGGER:-P0DT1H0M0S
ACTION:DISPLAY
END:VALARM
END:VEVENT
END:VCALENDAR