BEGIN:VCALENDAR
VERSION:2.0
PRODID:-//hacksw/handcal//NONSGML v1.0//EN
BEGIN:VEVENT
DTSTART:20240914T090000Z
DTEND:20240914T130000Z
LOCATION:École des Mines - Amphithéâtre Schlumberger \n60 Bd Saint-Michel \n75006 PARIS
ORGANIZER;CN=Tommy KOPP - Promo P 2014:MAILTO:tom.kopp1@laposte.net
SUMMARY:10 ans d'entrée aux Mines
DESCRIPTION:Bonjour à toutes et tous,La promo P14,0 fêtera en septembre les 10 ans d'entrée à l'École des Mines. \nÀ cette occasion, il nous paraît judicieux de proposer un bref retour dans les locaux de l'école ...
URL:https://mines-paris.org/fr/group/promo-p-2014/111/calendar/10-ans-d-entree-aux-mines/2024/09/14/312
BEGIN:VALARM
TRIGGER:-P0DT1H0M0S
ACTION:DISPLAY
END:VALARM
END:VEVENT
END:VCALENDAR